BEGIN:VCALENDAR
VERSION:2.0
PRODID:-//Gardiner Brewing Company - ECPv6.15.20//NONSGML v1.0//EN
CALSCALE:GREGORIAN
METHOD:PUBLISH
X-WR-CALNAME:Gardiner Brewing Company
X-ORIGINAL-URL:https://sitemap.gardinerbrewingcompany.com
X-WR-CALDESC:Events for Gardiner Brewing Company
REFRESH-INTERVAL;VALUE=DURATION:PT1H
X-Robots-Tag:noindex
X-PUBLISHED-TTL:PT1H
BEGIN:VTIMEZONE
TZID:America/New_York
BEGIN:DAYLIGHT
TZOFFSETFROM:-0500
TZOFFSETTO:-0400
TZNAME:EDT
DTSTART:20250309T070000
END:DAYLIGHT
BEGIN:STANDARD
TZOFFSETFROM:-0400
TZOFFSETTO:-0500
TZNAME:EST
DTSTART:20251102T060000
END:STANDARD
BEGIN:DAYLIGHT
TZOFFSETFROM:-0500
TZOFFSETTO:-0400
TZNAME:EDT
DTSTART:20260308T070000
END:DAYLIGHT
BEGIN:STANDARD
TZOFFSETFROM:-0400
TZOFFSETTO:-0500
TZNAME:EST
DTSTART:20261101T060000
END:STANDARD
BEGIN:DAYLIGHT
TZOFFSETFROM:-0500
TZOFFSETTO:-0400
TZNAME:EDT
DTSTART:20270314T070000
END:DAYLIGHT
BEGIN:STANDARD
TZOFFSETFROM:-0400
TZOFFSETTO:-0500
TZNAME:EST
DTSTART:20271107T060000
END:STANDARD
END:VTIMEZONE
BEGIN:VEVENT
DTSTART;TZID=America/New_York:20260606T153000
DTEND;TZID=America/New_York:20260606T183000
DTSTAMP:20260419T160337
CREATED:20260112T153418Z
LAST-MODIFIED:20260112T153418Z
UID:2664-1780759800-1780770600@sitemap.gardinerbrewingcompany.com
SUMMARY:Painted Blue Sky
DESCRIPTION:
URL:https://sitemap.gardinerbrewingcompany.com/event/painted-blue-sky-5/
LOCATION:The Barn at Gardiner Brewing Company\, 699 State Route 208\, Gardiner\, NY\, 12525\, United States
CATEGORIES:Live Music
END:VEVENT
BEGIN:VEVENT
DTSTART;TZID=America/New_York:20260607T153000
DTEND;TZID=America/New_York:20260607T183000
DTSTAMP:20260419T160337
CREATED:20260112T153443Z
LAST-MODIFIED:20260112T153443Z
UID:2666-1780846200-1780857000@sitemap.gardinerbrewingcompany.com
SUMMARY:Flirtin' With Disaster
DESCRIPTION:
URL:https://sitemap.gardinerbrewingcompany.com/event/flirtin-with-disaster-3/
LOCATION:The Barn at Gardiner Brewing Company\, 699 State Route 208\, Gardiner\, NY\, 12525\, United States
CATEGORIES:Live Music
END:VEVENT
BEGIN:VEVENT
DTSTART;TZID=America/New_York:20260613T153000
DTEND;TZID=America/New_York:20260613T183000
DTSTAMP:20260419T160337
CREATED:20260112T153506Z
LAST-MODIFIED:20260112T153506Z
UID:2668-1781364600-1781375400@sitemap.gardinerbrewingcompany.com
SUMMARY:Cruise Control
DESCRIPTION:
URL:https://sitemap.gardinerbrewingcompany.com/event/cruise-control-3/
LOCATION:The Barn at Gardiner Brewing Company\, 699 State Route 208\, Gardiner\, NY\, 12525\, United States
CATEGORIES:Live Music
END:VEVENT
BEGIN:VEVENT
DTSTART;TZID=America/New_York:20260614T153000
DTEND;TZID=America/New_York:20260614T183000
DTSTAMP:20260419T160337
CREATED:20260112T153528Z
LAST-MODIFIED:20260413T134818Z
UID:2670-1781451000-1781461800@sitemap.gardinerbrewingcompany.com
SUMMARY:Violet Crush
DESCRIPTION:
URL:https://sitemap.gardinerbrewingcompany.com/event/blucrush-6/
LOCATION:NY
CATEGORIES:Live Music
END:VEVENT
BEGIN:VEVENT
DTSTART;TZID=America/New_York:20260621T153000
DTEND;TZID=America/New_York:20260621T183000
DTSTAMP:20260419T160337
CREATED:20260413T135321Z
LAST-MODIFIED:20260413T135321Z
UID:2738-1782055800-1782066600@sitemap.gardinerbrewingcompany.com
SUMMARY:Gratefully Yours
DESCRIPTION:
URL:https://sitemap.gardinerbrewingcompany.com/event/gratefully-yours-4/
LOCATION:The Barn at Gardiner Brewing Company\, 699 State Route 208\, Gardiner\, NY\, 12525\, United States
CATEGORIES:Live Music
END:VEVENT
BEGIN:VEVENT
DTSTART;TZID=America/New_York:20260627T153000
DTEND;TZID=America/New_York:20260627T183000
DTSTAMP:20260419T160337
CREATED:20260112T153554Z
LAST-MODIFIED:20260112T153554Z
UID:2672-1782574200-1782585000@sitemap.gardinerbrewingcompany.com
SUMMARY:The Tonebenders
DESCRIPTION:
URL:https://sitemap.gardinerbrewingcompany.com/event/the-tonebenders-11/
LOCATION:The Barn at Gardiner Brewing Company\, 699 State Route 208\, Gardiner\, NY\, 12525\, United States
CATEGORIES:Live Music
END:VEVENT
BEGIN:VEVENT
DTSTART;TZID=America/New_York:20260628T153000
DTEND;TZID=America/New_York:20260628T183000
DTSTAMP:20260419T160337
CREATED:20260413T135444Z
LAST-MODIFIED:20260413T135444Z
UID:2740-1782660600-1782671400@sitemap.gardinerbrewingcompany.com
SUMMARY:Andrew Jordan Band
DESCRIPTION:
URL:https://sitemap.gardinerbrewingcompany.com/event/andrew-jordan-band/
LOCATION:The Barn at Gardiner Brewing Company\, 699 State Route 208\, Gardiner\, NY\, 12525\, United States
CATEGORIES:Live Music
END:VEVENT
END:VCALENDAR